BEGIN:VCALENDAR
VERSION:2.0
PRODID:-//Plone.org//NONSGML plone.app.event//EN
X-WR-TIMEZONE:Europe/Madrid
BEGIN:VEVENT
SUMMARY:VIII Torneig de Scrabble del Maresme
DTSTART;TZID=Europe/Madrid;VALUE=DATE-TIME:20211017T100000
DTEND;TZID=Europe/Madrid;VALUE=DATE-TIME:20211017T110000
DTSTAMP;VALUE=DATE-TIME:20260424T101337Z
UID:38263059cc480293ab9301ad58d4aee5
CREATED;VALUE=DATE-TIME:20211017T000000Z
CATEGORIES:Jornades,Cursos,Familiars,Joves,Esports
LOCATION:Associació Casal d'Alella. Carrer de Santa Madrona, 10. Alella (El Maresme)
ORGANIZER:Associació Casal d'Alella
COMMENT:Preu: Gratuït
Durada: de 10 a 14 h
URL:https://www.mynerva.net/ajalella/document.php?id=15752
END:VEVENT
END:VCALENDAR