BEGIN:VCALENDAR
VERSION:2.0
PRODID:-//Plone.org//NONSGML plone.app.event//EN
X-WR-TIMEZONE:Europe/Madrid
BEGIN:VEVENT
SUMMARY:Música de pel·lícules. Narcís Perich, en concert.
DTSTART;TZID=Europe/Madrid;VALUE=DATE-TIME:20210926T123000
DTEND;TZID=Europe/Madrid;VALUE=DATE-TIME:20210926T133000
DTSTAMP;VALUE=DATE-TIME:20260424T114500Z
UID:2265e9f63c6e543ebb06bb1044a52bbd
CREATED;VALUE=DATE-TIME:20210926T000000Z
CATEGORIES:Espectacles,Cinema,Música,Joves
LOCATION:Associació Casal d'Alella. Carrer de Santa Madrona, 10. Alella (El Maresme)
ORGANIZER:Associació Casal d'Alella
COMMENT:Preu: Gratuït
Durada: 12.30 a 13.45 h
DESCRIPTION:Viatge per les grans cançons del cinema
URL:https://www.mynerva.net/ajalella/document.php?id=15754
END:VEVENT
END:VCALENDAR