BEGIN:VCALENDAR
VERSION:2.0
PRODID:-//Plone.org//NONSGML plone.app.event//EN
X-WR-TIMEZONE:Europe/Madrid
BEGIN:VEVENT
SUMMARY:Bad classics y el hombre pájaro
DTSTART;TZID=Europe/Madrid;VALUE=DATE-TIME:20211024T123000
DTEND;TZID=Europe/Madrid;VALUE=DATE-TIME:20211024T133000
DTSTAMP;VALUE=DATE-TIME:20260424T114826Z
UID:50fb6f52c1cd8b25e490ab7fe724f284
CREATED;VALUE=DATE-TIME:20211024T000000Z
CATEGORIES:Espectacles,Música,Joves
LOCATION:Associació Casal d'Alella. Carrer de Santa Madrona, 10. Alella (El Maresme)
ORGANIZER:Associació Casal d'Alella
COMMENT:Preu: Gratuït
Durada: de les 12.30 h a les 13.30 h
DESCRIPTION:Concert de pop-rock i temes propis
URL:https://www.mynerva.net/ajalella/document.php?id=15755
END:VEVENT
END:VCALENDAR