BEGIN:VCALENDAR
VERSION:2.0
PRODID:-//Plone.org//NONSGML plone.app.event//EN
X-WR-TIMEZONE:Europe/Madrid
BEGIN:VEVENT
SUMMARY:Xerrada. "La gestió i recollida selectiva de la matèria orgànica"
DTSTART;TZID=Europe/Madrid;VALUE=DATE-TIME:20211201T190000
DTEND;TZID=Europe/Madrid;VALUE=DATE-TIME:20211201T200000
DTSTAMP;VALUE=DATE-TIME:20260424T100127Z
UID:f1dc75780286d583cdb390de42f02016
CREATED;VALUE=DATE-TIME:20211201T000000Z
CATEGORIES:Tertúlies
LOCATION:Sessió presencial. Inscripcions en aquest FORMULARI
ORGANIZER:Ajuntament d'Alella
COMMENT:Preu: Gratuït
URL:https://www.mynerva.net/ajalella/document.php?id=15762
END:VEVENT
END:VCALENDAR