BEGIN:VCALENDAR
VERSION:2.0
PRODID:-//Plone.org//NONSGML plone.app.event//EN
X-WR-TIMEZONE:Europe/Madrid
BEGIN:VEVENT
SUMMARY:Gent Gran 6.0. Tertúlia-taller: Document de voluntats anticipades
DTSTART;TZID=Europe/Madrid;VALUE=DATE-TIME:20211019T180000
DTEND;TZID=Europe/Madrid;VALUE=DATE-TIME:20211019T190000
DTSTAMP;VALUE=DATE-TIME:20260424T131429Z
UID:cd066ee78717e33da5861d06587f3929
CREATED;VALUE=DATE-TIME:20211019T000000Z
CATEGORIES:Jornades,Cursos
LOCATION:Sala Carquefou de l'Espai d'Arts Escèniques Casal d'Alella
ORGANIZER:Ajuntament d'Alella
URL:https://www.mynerva.net/ajalella/document.php?id=15766
END:VEVENT
END:VCALENDAR