BEGIN:VCALENDAR
VERSION:2.0
PRODID:-//Plone.org//NONSGML plone.app.event//EN
X-WR-TIMEZONE:Europe/Madrid
BEGIN:VEVENT
SUMMARY:Gent Gran 6.0. Tastet de Teatre i Creativitat (3a sessió)
DTSTART;TZID=Europe/Madrid;VALUE=DATE-TIME:20211203T100000
DTEND;TZID=Europe/Madrid;VALUE=DATE-TIME:20211203T110000
DTSTAMP;VALUE=DATE-TIME:20260424T095746Z
UID:20117f3d41b77f3925daf4df65ad6777
CREATED;VALUE=DATE-TIME:20211203T000000Z
CATEGORIES:Espectacles,Cursos
LOCATION:Espai d'arts escèniques Casal d'Alella - Carrer de Santa Teresa, 9 08328 Alella
ORGANIZER:Ajuntament d'Alella
URL:https://www.mynerva.net/ajalella/document.php?id=15769
END:VEVENT
END:VCALENDAR