BEGIN:VCALENDAR
VERSION:2.0
PRODID:-//Plone.org//NONSGML plone.app.event//EN
X-WR-TIMEZONE:Europe/Madrid
BEGIN:VEVENT
SUMMARY:Jornades Ferrer i Guàrdia. Educar en valors d'igualtat
DTSTART;TZID=Europe/Madrid;VALUE=DATE-TIME:20211019T170000
DTEND;TZID=Europe/Madrid;VALUE=DATE-TIME:20211019T180000
DTSTAMP;VALUE=DATE-TIME:20260424T114627Z
UID:5c0f0a917956d72cc1340d2906cd7af0
CREATED;VALUE=DATE-TIME:20211019T000000Z
CATEGORIES:Jornades
LOCATION:Institut Alella - Avinguda del Bosquet, 7. 08328 Alella
ORGANIZER:Ajuntament d'Alella
COMMENT:Preu: Gratuït
Durada: De 17 a 20h
URL:https://www.mynerva.net/ajalella/document.php?id=15779
END:VEVENT
END:VCALENDAR