BEGIN:VCALENDAR
VERSION:2.0
PRODID:-//Plone.org//NONSGML plone.app.event//EN
X-WR-TIMEZONE:Europe/Madrid
BEGIN:VEVENT
SUMMARY:Eines pràctiques per trobar feina de manera eficient
DTSTART;TZID=Europe/Madrid;VALUE=DATE-TIME:20211023T100000
DTEND;TZID=Europe/Madrid;VALUE=DATE-TIME:20211023T110000
DTSTAMP;VALUE=DATE-TIME:20260424T114811Z
UID:9fb50808e8b81346788f13895b0dff5d
CREATED;VALUE=DATE-TIME:20211023T000000Z
CATEGORIES:Cursos,Joves
LOCATION:Antigues Escoles Fabra - Avinguda Ferran Fabra, 1 08328
ORGANIZER:Ajuntament d'Alella
COMMENT:Preu: Gratuït
Durada: de 10 a 13
DESCRIPTION:Càpsula presencial
URL:https://www.mynerva.net/ajalella/document.php?id=15784
END:VEVENT
END:VCALENDAR