BEGIN:VCALENDAR
VERSION:2.0
PRODID:-//Plone.org//NONSGML plone.app.event//EN
X-WR-TIMEZONE:Europe/Madrid
BEGIN:VEVENT
SUMMARY:Gestió emocional per viure en pau i feliç
DTSTART;TZID=Europe/Madrid;VALUE=DATE-TIME:20211211T100000
DTEND;TZID=Europe/Madrid;VALUE=DATE-TIME:20211211T110000
DTSTAMP;VALUE=DATE-TIME:20260419T182514Z
UID:b241b562bc18266b53eb843182fc9eab
CREATED;VALUE=DATE-TIME:20211211T000000Z
CATEGORIES:Cursos,Joves
LOCATION:Antigues Escoles Fabra - Avinguda Ferran Fabra, 1 08328
ORGANIZER:Ajuntament d'Alella
COMMENT:Preu: 10&euro;
Durada: de 10 a 14
DESCRIPTION:Càpsula presencial
URL:https://www.mynerva.net/ajalella/document.php?id=15786
END:VEVENT
END:VCALENDAR