BEGIN:VCALENDAR
VERSION:2.0
PRODID:-//Plone.org//NONSGML plone.app.event//EN
X-WR-TIMEZONE:Europe/Madrid
BEGIN:VEVENT
SUMMARY:Campionat de Taekwondo (FAMC)
DTSTART;TZID=Europe/Madrid;VALUE=DATE-TIME:20211023T090000
DTEND;TZID=Europe/Madrid;VALUE=DATE-TIME:20211023T100000
DTSTAMP;VALUE=DATE-TIME:20260424T100419Z
UID:dbd1ddfccf92a313fb2a4352c299452c
CREATED;VALUE=DATE-TIME:20211023T000000Z
CATEGORIES:Esports
LOCATION:Pavelló d'Esports Municipal Abelardo Vera - Passeig de la Creu de Pedra, 29-31. 08328 Alella
ORGANIZER:FAMC (Federació d'Arts Marcials de Catalunya)
COMMENT:Durada: 9 a 14 h
URL:https://www.mynerva.net/ajalella/document.php?id=15796
END:VEVENT
END:VCALENDAR