BEGIN:VCALENDAR
VERSION:2.0
PRODID:-//Plone.org//NONSGML plone.app.event//EN
X-WR-TIMEZONE:Europe/Madrid
BEGIN:VEVENT
SUMMARY:Presentació temporada esportiva i reconeixement a les entitats esportives
DTSTART;TZID=Europe/Madrid;VALUE=DATE-TIME:20210929T190000
DTEND;TZID=Europe/Madrid;VALUE=DATE-TIME:20210929T200000
DTSTAMP;VALUE=DATE-TIME:20260424T175033Z
UID:bceee334e0f5e5cfe2a6326d13a5834f
CREATED;VALUE=DATE-TIME:20210929T000000Z
CATEGORIES:Esports
LOCATION:Plaça d'Antoni Pujadas - Plaça d'Antoni Pujadas. 08328 Alella
ORGANIZER:Ajuntament d'Alella
COMMENT:Durada: 19h
URL:https://www.mynerva.net/ajalella/document.php?id=15799
END:VEVENT
END:VCALENDAR