BEGIN:VCALENDAR
VERSION:2.0
PRODID:-//Plone.org//NONSGML plone.app.event//EN
X-WR-TIMEZONE:Europe/Madrid
BEGIN:VEVENT
SUMMARY:Hora del conte
DTSTART;TZID=Europe/Madrid;VALUE=DATE-TIME:20211015T173000
DTEND;TZID=Europe/Madrid;VALUE=DATE-TIME:20211015T183000
DTSTAMP;VALUE=DATE-TIME:20260424T101041Z
UID:fcfe2a5918569bef271a0343c6699ab2
CREATED;VALUE=DATE-TIME:20211015T000000Z
CATEGORIES:Familiars
LOCATION:Espai d'arts escèniques Casal d'Alella - Carrer de Santa Teresa, 9 08328 Alella
ORGANIZER:Ajuntament d'Alella
COMMENT:Preu: Gratuït
DESCRIPTION:L'hort de l'eriçona Airí
URL:https://www.mynerva.net/ajalella/document.php?id=15801
END:VEVENT
END:VCALENDAR