BEGIN:VCALENDAR
VERSION:2.0
PRODID:-//Plone.org//NONSGML plone.app.event//EN
X-WR-TIMEZONE:Europe/Madrid
BEGIN:VEVENT
SUMMARY:Mirades al Món. Festa de la Cooperació Internacional
DTSTART;TZID=Europe/Madrid;VALUE=DATE-TIME:20211024T110000
DTEND;TZID=Europe/Madrid;VALUE=DATE-TIME:20211024T120000
DTSTAMP;VALUE=DATE-TIME:20260424T095930Z
UID:53e67dfc4ec02737e3ace1b516dc3961
CREATED;VALUE=DATE-TIME:20211024T000000Z
CATEGORIES:Espectacles,Jornades,Festes i fires,Familiars
LOCATION:Plaça de l'Ajuntament - Plaça de l'Ajuntament, s/n. 08328 Alella
ORGANIZER:Comissió de cooperació internacional
COMMENT:Preu: Gratuït
DESCRIPTION:Jornades de Cooperació Internacional Mirades al Món
URL:https://www.mynerva.net/ajalella/document.php?id=15817
END:VEVENT
END:VCALENDAR