BEGIN:VCALENDAR
VERSION:2.0
PRODID:-//Plone.org//NONSGML plone.app.event//EN
X-WR-TIMEZONE:Europe/Madrid
BEGIN:VEVENT
SUMMARY:Mirades al Món. Taula rodona "Sanitat i desigualtats Nord-Sud. Mig món sense recursos sanitaris"
DTSTART;TZID=Europe/Madrid;VALUE=DATE-TIME:20211025T190000
DTEND;TZID=Europe/Madrid;VALUE=DATE-TIME:20211025T200000
DTSTAMP;VALUE=DATE-TIME:20260424T131430Z
UID:2f6f6eb5b9e730eb6e9ca781f6c47e61
CREATED;VALUE=DATE-TIME:20211025T000000Z
CATEGORIES:Tertúlies,Jornades
LOCATION:Espai d'arts escèniques Casal d'Alella - Carrer de Santa Teresa, 9 08328 Alella
ORGANIZER:Comissió de cooperació internacional
COMMENT:Preu: Gratuït
DESCRIPTION:Jornades de Cooperació Internacional Mirades al món
URL:https://www.mynerva.net/ajalella/document.php?id=15821
END:VEVENT
END:VCALENDAR