BEGIN:VCALENDAR
VERSION:2.0
PRODID:-//Plone.org//NONSGML plone.app.event//EN
X-WR-TIMEZONE:Europe/Madrid
BEGIN:VEVENT
SUMMARY:Mirades al Món. Projecció de la pel·lícula The constant gardener (2005)
DTSTART;TZID=Europe/Madrid;VALUE=DATE-TIME:20211027T190000
DTEND;TZID=Europe/Madrid;VALUE=DATE-TIME:20211027T200000
DTSTAMP;VALUE=DATE-TIME:20260424T131512Z
UID:92df2e6b9f26d5ece43ad7297f8a2416
CREATED;VALUE=DATE-TIME:20211027T000000Z
CATEGORIES:Cinema,Jornades
LOCATION:Espai d'arts escèniques Casal d'Alella - Carrer de Santa Teresa, 9 08328 Alella
ORGANIZER:Comissió de cooperació internacional
COMMENT:Preu: Gratuït
DESCRIPTION:Jornades de Cooperació Internacional Mirades al món
URL:https://www.mynerva.net/ajalella/document.php?id=15828
END:VEVENT
END:VCALENDAR