BEGIN:VCALENDAR
VERSION:2.0
PRODID:-//Plone.org//NONSGML plone.app.event//EN
X-WR-TIMEZONE:Europe/Madrid
BEGIN:VEVENT
SUMMARY:Cinema. Dos colegas y la gran bestia (EN CATALÀ)
DTSTART;TZID=Europe/Madrid;VALUE=DATE-TIME:20211016T170000
DTEND;TZID=Europe/Madrid;VALUE=DATE-TIME:20211016T180000
DTSTAMP;VALUE=DATE-TIME:20260424T131657Z
UID:aa7646a5db38c81f77cfd04dbe1e7168
CREATED;VALUE=DATE-TIME:20211016T000000Z
CATEGORIES:Cinema
LOCATION:Espai d'arts escèniques Casal d'Alella - Carrer de Santa Teresa, 9 08328 Alella
ORGANIZER:Ajuntament d'Alella
COMMENT:Preu: 6,50
URL:https://www.mynerva.net/ajalella/document.php?id=15918
END:VEVENT
END:VCALENDAR