BEGIN:VCALENDAR
VERSION:2.0
PRODID:-//Plone.org//NONSGML plone.app.event//EN
X-WR-TIMEZONE:Europe/Madrid
BEGIN:VEVENT
SUMMARY:Cinema. Dos colegas y la gran bestia (EN CATALÀ)
DTSTART;TZID=Europe/Madrid;VALUE=DATE-TIME:20211017T170000
DTEND;TZID=Europe/Madrid;VALUE=DATE-TIME:20211017T180000
DTSTAMP;VALUE=DATE-TIME:20260424T101210Z
UID:03986ff6f413cc684067ffb46f2f5234
CREATED;VALUE=DATE-TIME:20211017T000000Z
CATEGORIES:Cinema
LOCATION:Espai d'arts escèniques Casal d'Alella - Carrer de Santa Teresa, 9 08328 Alella
ORGANIZER:Ajuntament d'Alella
COMMENT:Preu: 6,50
URL:https://www.mynerva.net/ajalella/document.php?id=15919
END:VEVENT
END:VCALENDAR