BEGIN:VCALENDAR
VERSION:2.0
PRODID:-//Plone.org//NONSGML plone.app.event//EN
X-WR-TIMEZONE:Europe/Madrid
BEGIN:VEVENT
SUMMARY:Cinema. 007 Sin tiempo para morir
DTSTART;TZID=Europe/Madrid;VALUE=DATE-TIME:20211024T170000
DTEND;TZID=Europe/Madrid;VALUE=DATE-TIME:20211024T180000
DTSTAMP;VALUE=DATE-TIME:20260424T100041Z
UID:6ac40ad62f59705f452602ba06e11105
CREATED;VALUE=DATE-TIME:20211024T000000Z
CATEGORIES:Cinema
LOCATION:Espai d'arts escèniques Casal d'Alella - Carrer de Santa Teresa, 9 08328 Alella
ORGANIZER:Ajuntament d'Alella
COMMENT:Preu: 6,50 (4,50 dia de preu reduït)
URL:https://www.mynerva.net/ajalella/document.php?id=15920
END:VEVENT
END:VCALENDAR