BEGIN:VCALENDAR
VERSION:2.0
PRODID:-//Plone.org//NONSGML plone.app.event//EN
X-WR-TIMEZONE:Europe/Madrid
BEGIN:VEVENT
SUMMARY:Xerrada. Els biaixos inconscients de gènere
DTSTART;TZID=Europe/Madrid;VALUE=DATE-TIME:20211028T193000
DTEND;TZID=Europe/Madrid;VALUE=DATE-TIME:20211028T203000
DTSTAMP;VALUE=DATE-TIME:20260424T131733Z
UID:e9579aea232073c5b9ef841d3ba19b0d
CREATED;VALUE=DATE-TIME:20211028T000000Z
CATEGORIES:Tertúlies,Joves
LOCATION:Associació Casal d'Alella. Carrer de Santa Madrona, 10. Alella (El Maresme)
ORGANIZER:Tribu Feminista d'Alella i Associació Casal d'Alella
COMMENT:Preu: Gratuït socis del Casal d'Alella i de la Tribu Feminista. Públic, en general: 3 euros
Durada: de les 19.30 h a les 20.45 h
DESCRIPTION:A càrrec d'Eli Abad
URL:https://www.mynerva.net/ajalella/document.php?id=15923
END:VEVENT
END:VCALENDAR