BEGIN:VCALENDAR
VERSION:2.0
PRODID:-//Plone.org//NONSGML plone.app.event//EN
X-WR-TIMEZONE:Europe/Madrid
BEGIN:VEVENT
SUMMARY:In_cert. Cacera d'ombres, un joc de desconfinament
DTSTART;TZID=Europe/Madrid;VALUE=DATE-TIME:20211107T120000
DTEND;TZID=Europe/Madrid;VALUE=DATE-TIME:20211107T130000
DTSTAMP;VALUE=DATE-TIME:20260421T112900Z
UID:0c1de9149254281677211aeba2f9e56b
CREATED;VALUE=DATE-TIME:20211107T000000Z
CATEGORIES:Exposició,Sortides,Familiars
LOCATION:Vall de Rials (Sortida des de l'Av. del Bosquet, davant del Bosquet d'Alella)
ORGANIZER:Ajuntament d'Alella i Hospital Germans Trias
COMMENT:Preu: Gratuït
DESCRIPTION:Taller familiar amb l'artista Sylvie Bussières per la Vall de Rials
URL:https://www.mynerva.net/ajalella/document.php?id=15958
END:VEVENT
END:VCALENDAR