BEGIN:VCALENDAR
VERSION:2.0
PRODID:-//Plone.org//NONSGML plone.app.event//EN
X-WR-TIMEZONE:Europe/Madrid
BEGIN:VEVENT
SUMMARY:Visita guiada al Centre Integral de Valorització de Residus del Maresme
DTSTART;TZID=Europe/Madrid;VALUE=DATE-TIME:20211120T103000
DTEND;TZID=Europe/Madrid;VALUE=DATE-TIME:20211120T113000
DTSTAMP;VALUE=DATE-TIME:20260424T081447Z
UID:2551b3141ba15421e5cfa1dff82af405
CREATED;VALUE=DATE-TIME:20211120T000000Z
CATEGORIES:Sortides
LOCATION:Carrer de la Teixidora, 83 (Mataró)
ORGANIZER:Ajuntament d'Alella
COMMENT:Preu: Gratuït
Durada: 10.30-12.30h
DESCRIPTION:Activitat inclosa al "Mou-te pels residus", la nova reducció de la taxa de la brossa
URL:https://www.mynerva.net/ajalella/document.php?id=15982
END:VEVENT
END:VCALENDAR