BEGIN:VCALENDAR
VERSION:2.0
PRODID:-//Plone.org//NONSGML plone.app.event//EN
X-WR-TIMEZONE:Europe/Madrid
BEGIN:VEVENT
SUMMARY:Teatre. Sí o No?
DTSTART;TZID=Europe/Madrid;VALUE=DATE-TIME:20211117T200000
DTEND;TZID=Europe/Madrid;VALUE=DATE-TIME:20211117T210000
DTSTAMP;VALUE=DATE-TIME:20260424T031446Z
UID:4b6c687b4c0ed3dbcecbcb7af739fb88
CREATED;VALUE=DATE-TIME:20211117T000000Z
CATEGORIES:Espectacles
LOCATION:Espai d'arts escèniques Casal d'Alella - Carrer de Santa Teresa, 9 08328 Alella
ORGANIZER:Ajuntament d'Alella
COMMENT:Preu: Entre 10 i 12
DESCRIPTION:Bruno Oro
URL:https://www.mynerva.net/ajalella/document.php?id=16023
END:VEVENT
END:VCALENDAR