BEGIN:VCALENDAR
VERSION:2.0
PRODID:-//Plone.org//NONSGML plone.app.event//EN
X-WR-TIMEZONE:Europe/Madrid
BEGIN:VEVENT
SUMMARY:Bibliolab - Figures en 3D sense impressora
DTSTART;TZID=Europe/Madrid;VALUE=DATE-TIME:20211119T180000
DTEND;TZID=Europe/Madrid;VALUE=DATE-TIME:20211119T190000
DTSTAMP;VALUE=DATE-TIME:20260424T031201Z
UID:f52110361b0ca18f6fbff35bee8f47b7
CREATED;VALUE=DATE-TIME:20211119T000000Z
CATEGORIES:Familiars
LOCATION:Espai d'arts escèniques Casal d'Alella - Carrer de Santa Teresa, 9 08328 Alella
ORGANIZER:Ajuntament d'Alella
COMMENT:Preu: Gratuït
URL:https://www.mynerva.net/ajalella/document.php?id=16028
END:VEVENT
END:VCALENDAR