BEGIN:VCALENDAR
VERSION:2.0
PRODID:-//Plone.org//NONSGML plone.app.event//EN
X-WR-TIMEZONE:Europe/Madrid
BEGIN:VEVENT
SUMMARY:Escape room adolescent
DTSTART;TZID=Europe/Madrid;VALUE=DATE-TIME:20211028T170000
DTEND;TZID=Europe/Madrid;VALUE=DATE-TIME:20211028T180000
DTSTAMP;VALUE=DATE-TIME:20260424T131519Z
UID:eb05be33ea74cb788d093caa1e995fbb
CREATED;VALUE=DATE-TIME:20211028T000000Z
CATEGORIES:Espectacles,Joves
LOCATION:Antigues Escoles Fabra - Avinguda Ferran Fabra, 1 08328
ORGANIZER:ÀGORA espai adolescent i jove d'Alella
COMMENT:Preu: Gratuït
Durada: 1 hora de 17h a 18h
URL:https://www.mynerva.net/ajalella/document.php?id=16036
END:VEVENT
END:VCALENDAR