BEGIN:VCALENDAR
VERSION:2.0
PRODID:-//Plone.org//NONSGML plone.app.event//EN
X-WR-TIMEZONE:Europe/Madrid
BEGIN:VEVENT
SUMMARY:Projecció de la pel·lícula 'Especials'
DTSTART;TZID=Europe/Madrid;VALUE=DATE-TIME:20211129T193000
DTEND;TZID=Europe/Madrid;VALUE=DATE-TIME:20211129T203000
DTSTAMP;VALUE=DATE-TIME:20260424T062643Z
UID:96b3d9d0545ae292bf4fc292910867fb
CREATED;VALUE=DATE-TIME:20211129T000000Z
CATEGORIES:Cinema,Tertúlies,Joves
LOCATION:Associació Casal d'Alella. C. de Santa Madrona, 10. Alella
ORGANIZER:Associació Casal d'Alella
COMMENT:Preu: Socis: gratuït / No socis: 3 euros
Durada: De les 19.30 h a les 21 h
DESCRIPTION:VC. Versió doblada en català
URL:https://www.mynerva.net/ajalella/document.php?id=16057
END:VEVENT
END:VCALENDAR