BEGIN:VCALENDAR
VERSION:2.0
PRODID:-//Plone.org//NONSGML plone.app.event//EN
X-WR-TIMEZONE:Europe/Madrid
BEGIN:VEVENT
SUMMARY:Companyia Inèrcia
DTSTART;TZID=Europe/Madrid;VALUE=DATE-TIME:20211119T200000
DTEND;TZID=Europe/Madrid;VALUE=DATE-TIME:20211119T210000
DTSTAMP;VALUE=DATE-TIME:20260424T093725Z
UID:974ad29601eaab6efbfbd399e2e44c94
CREATED;VALUE=DATE-TIME:20211119T000000Z
LOCATION:Espai d'Arts Escèniques Casal d'Alella
URL:https://www.mynerva.net/ajalella/document.php?id=16164
END:VEVENT
END:VCALENDAR