BEGIN:VCALENDAR
VERSION:2.0
PRODID:-//Plone.org//NONSGML plone.app.event//EN
X-WR-TIMEZONE:Europe/Madrid
BEGIN:VEVENT
SUMMARY:Club de lectura
DTSTART;TZID=Europe/Madrid;VALUE=DATE-TIME:20211202T200000
DTEND;TZID=Europe/Madrid;VALUE=DATE-TIME:20211202T210000
DTSTAMP;VALUE=DATE-TIME:20260424T095918Z
UID:5636f34722b22fe6c651682619dedbff
CREATED;VALUE=DATE-TIME:20211202T000000Z
CATEGORIES:Literatura
LOCATION:Espai d'arts escèniques Casal d'Alella - Carrer de Santa Teresa, 9 08328 Alella
ORGANIZER:Ajuntament d'Alella
COMMENT:Preu: Gratuït
DESCRIPTION:La cinquena planta, de Manuel Baixauli
URL:https://www.mynerva.net/ajalella/document.php?id=16176
END:VEVENT
END:VCALENDAR