BEGIN:VCALENDAR
VERSION:2.0
PRODID:-//Plone.org//NONSGML plone.app.event//EN
X-WR-TIMEZONE:Europe/Madrid
BEGIN:VEVENT
SUMMARY:Presentació del poemari Quan tot haurà passat, de Fina Soler
DTSTART;TZID=Europe/Madrid;VALUE=DATE-TIME:20211210T200000
DTEND;TZID=Europe/Madrid;VALUE=DATE-TIME:20211210T210000
DTSTAMP;VALUE=DATE-TIME:20260419T182235Z
UID:6e70a14d79339d69b8612ecb320d26ff
CREATED;VALUE=DATE-TIME:20211210T000000Z
CATEGORIES:Literatura,Tertúlies,Joves
LOCATION:Associació Casal d'Alella. C. de Santa Madrona, 10. Alella
ORGANIZER:Associació Casal d'Alella
COMMENT:Preu: Gratuït
Durada: De les 20 a les 21 h
DESCRIPTION:Presentació a càrrec de Tònia Minguet
URL:https://www.mynerva.net/ajalella/document.php?id=16177
END:VEVENT
END:VCALENDAR