BEGIN:VCALENDAR
VERSION:2.0
PRODID:-//Plone.org//NONSGML plone.app.event//EN
X-WR-TIMEZONE:Europe/Madrid
BEGIN:VEVENT
SUMMARY:Cinema. El buen patrón
DTSTART;TZID=Europe/Madrid;VALUE=DATE-TIME:20211129T201500
DTEND;TZID=Europe/Madrid;VALUE=DATE-TIME:20211129T211500
DTSTAMP;VALUE=DATE-TIME:20260424T012337Z
UID:02d5fcfcfd840e705bf4310c6c23c973
CREATED;VALUE=DATE-TIME:20211129T000000Z
CATEGORIES:Cinema
LOCATION:Espai d'arts escèniques Casal d'Alella - Carrer de Santa Teresa, 9 08328 Alella
ORGANIZER:Ajuntament d'Alella
COMMENT:Preu: 6,50 (4,50 dia de preu reduït)
URL:https://www.mynerva.net/ajalella/document.php?id=16189
END:VEVENT
END:VCALENDAR