BEGIN:VCALENDAR
VERSION:2.0
PRODID:-//Plone.org//NONSGML plone.app.event//EN
X-WR-TIMEZONE:Europe/Madrid
BEGIN:VEVENT
SUMMARY:Nadal Alella. Encesa de Llums de Nadal
DTSTART;TZID=Europe/Madrid;VALUE=DATE-TIME:20211210T180000
DTEND;TZID=Europe/Madrid;VALUE=DATE-TIME:20211210T190000
DTSTAMP;VALUE=DATE-TIME:20260419T164643Z
UID:09da4236894b68986e266032a1940683
CREATED;VALUE=DATE-TIME:20211210T000000Z
CATEGORIES:Espectacles,Música
LOCATION:Plaça de l'Ajuntament - Plaça de l'Ajuntament, s/n. 08328 Alella
ORGANIZER:Ajuntament d'Alella
URL:https://www.mynerva.net/ajalella/document.php?id=16190
END:VEVENT
END:VCALENDAR