BEGIN:VCALENDAR
VERSION:2.0
PRODID:-//Plone.org//NONSGML plone.app.event//EN
X-WR-TIMEZONE:Europe/Madrid
BEGIN:VEVENT
SUMMARY:Projecció film especials
DTSTART;TZID=Europe/Madrid;VALUE=DATE-TIME:20211129T193000
DTEND;TZID=Europe/Madrid;VALUE=DATE-TIME:20211129T203000
DTSTAMP;VALUE=DATE-TIME:20260424T062612Z
UID:21d3b0c4f2ffe0ff473ffa39fc88aff2
CREATED;VALUE=DATE-TIME:20211129T000000Z
CATEGORIES:Cinema
LOCATION:Casal d'Alella
ORGANIZER:Associació Casal d'Alella
COMMENT:Preu: Gratuï socis/ no socis 3&euro;
URL:https://www.mynerva.net/ajalella/document.php?id=16224
END:VEVENT
END:VCALENDAR