BEGIN:VCALENDAR
VERSION:2.0
PRODID:-//Plone.org//NONSGML plone.app.event//EN
X-WR-TIMEZONE:Europe/Madrid
BEGIN:VEVENT
SUMMARY:La Marató. Quinto de Nadal. ANUL·LAT
DTSTART;TZID=Europe/Madrid;VALUE=DATE-TIME:20211212T180000
DTEND;TZID=Europe/Madrid;VALUE=DATE-TIME:20211212T190000
DTSTAMP;VALUE=DATE-TIME:20260419T213533Z
UID:f8829be7fb32d1f86d7c394c352541bb
CREATED;VALUE=DATE-TIME:20211212T000000Z
CATEGORIES:Festes i fires
LOCATION:Pavelló d'Esports Municipal Abelardo Vera - Passeig de la Creu de Pedra, 29-31. 08328 Alella
URL:https://www.mynerva.net/ajalella/document.php?id=16226
END:VEVENT
END:VCALENDAR