BEGIN:VCALENDAR
VERSION:2.0
PRODID:-//Plone.org//NONSGML plone.app.event//EN
X-WR-TIMEZONE:Europe/Madrid
BEGIN:VEVENT
SUMMARY:La Marató. El raïm inquiet
DTSTART;TZID=Europe/Madrid;VALUE=DATE-TIME:20211212T120000
DTEND;TZID=Europe/Madrid;VALUE=DATE-TIME:20211212T130000
DTSTAMP;VALUE=DATE-TIME:20260419T195100Z
UID:8bce49cca1b213c310eec85554b49655
CREATED;VALUE=DATE-TIME:20211212T000000Z
CATEGORIES:Festes i fires,Vi i gastronomia
LOCATION:Centre Enoturisme Alta Allela
ORGANIZER:Alta Alella
COMMENT:Preu: 10 per persona
URL:https://www.mynerva.net/ajalella/document.php?id=16231
END:VEVENT
END:VCALENDAR