BEGIN:VCALENDAR
VERSION:2.0
PRODID:-//Plone.org//NONSGML plone.app.event//EN
X-WR-TIMEZONE:Europe/Madrid
BEGIN:VEVENT
SUMMARY:La Marató. Alta Alella Wine Bar. DJ Set
DTSTART;TZID=Europe/Madrid;VALUE=DATE-TIME:20211212T120000
DTEND;TZID=Europe/Madrid;VALUE=DATE-TIME:20211212T130000
DTSTAMP;VALUE=DATE-TIME:20260419T195219Z
UID:18f76ae4ae8844c13ad15d2916fb2f35
CREATED;VALUE=DATE-TIME:20211212T000000Z
CATEGORIES:Festes i fires,Vi i gastronomia
LOCATION:Centre d'enoturisme Alta Alella
URL:https://www.mynerva.net/ajalella/document.php?id=16232
END:VEVENT
END:VCALENDAR