BEGIN:VCALENDAR
VERSION:2.0
PRODID:-//Plone.org//NONSGML plone.app.event//EN
X-WR-TIMEZONE:Europe/Madrid
BEGIN:VEVENT
SUMMARY:La Marató. 1r Torneig de Pàdel Solo Ellos Solidari
DTSTART;TZID=Europe/Madrid;VALUE=DATE-TIME:20211218T090000
DTEND;TZID=Europe/Madrid;VALUE=DATE-TIME:20211218T100000
DTSTAMP;VALUE=DATE-TIME:20260419T182059Z
UID:d229161818a0a9aa134d5bc02252894b
CREATED;VALUE=DATE-TIME:20211218T000000Z
CATEGORIES:Festes i fires,Esports
LOCATION:Club tennis Sistres
ORGANIZER:Club de Tennis Sistres
COMMENT:Preu: 20 o 25 (5 de la inscripció es destinarà a la Marató de TV3)
Durada: 9h a 19:30h
URL:https://www.mynerva.net/ajalella/document.php?id=16237
END:VEVENT
END:VCALENDAR