BEGIN:VCALENDAR
VERSION:2.0
PRODID:-//Plone.org//NONSGML plone.app.event//EN
X-WR-TIMEZONE:Europe/Madrid
BEGIN:VEVENT
SUMMARY:La Marató. Exhibicions de Taekwondo, Gimnàstica rítmica i Patinatge
DTSTART;TZID=Europe/Madrid;VALUE=DATE-TIME:20211218T093000
DTEND;TZID=Europe/Madrid;VALUE=DATE-TIME:20211218T103000
DTSTAMP;VALUE=DATE-TIME:20260419T164942Z
UID:169b4712d820cec3e2480dd6a5f229c9
CREATED;VALUE=DATE-TIME:20211218T000000Z
CATEGORIES:Festes i fires,Esports
LOCATION:Pavelló d'Esports Municipal Abelardo Vera - Passeig de la Creu de Pedra, 29-31. 08328 Alella
ORGANIZER:Ajuntament d'Alella
URL:https://www.mynerva.net/ajalella/document.php?id=16238
END:VEVENT
END:VCALENDAR