BEGIN:VCALENDAR
VERSION:2.0
PRODID:-//Plone.org//NONSGML plone.app.event//EN
X-WR-TIMEZONE:Europe/Madrid
BEGIN:VEVENT
SUMMARY:La Marató. Sopar solidari la Gravella
DTSTART;TZID=Europe/Madrid;VALUE=DATE-TIME:20211218T000000
DTEND;TZID=Europe/Madrid;VALUE=DATE-TIME:20211218T010000
DTSTAMP;VALUE=DATE-TIME:20260419T165009Z
UID:179ce9bed6db836f010288df79d79450
CREATED;VALUE=DATE-TIME:20211218T000000Z
CATEGORIES:Festes i fires,Vi i gastronomia
LOCATION:La Gravella restaurant
COMMENT:Preu: Preu: 25 per persona (5 es destinaran  a la Marató de tv3)
URL:https://www.mynerva.net/ajalella/document.php?id=16244
END:VEVENT
END:VCALENDAR