BEGIN:VCALENDAR
VERSION:2.0
PRODID:-//Plone.org//NONSGML plone.app.event//EN
X-WR-TIMEZONE:Europe/Madrid
BEGIN:VEVENT
SUMMARY:Cinema. Encanto
DTSTART;TZID=Europe/Madrid;VALUE=DATE-TIME:20211205T191500
DTEND;TZID=Europe/Madrid;VALUE=DATE-TIME:20211205T201500
DTSTAMP;VALUE=DATE-TIME:20260424T131303Z
UID:89aea2158f0fb568a8da559c43831e86
CREATED;VALUE=DATE-TIME:20211205T000000Z
CATEGORIES:Cinema,Familiars
LOCATION:Espai d'arts escèniques Casal d'Alella - Carrer de Santa Teresa, 9 08328 Alella
ORGANIZER:Ajuntament d'Alella
COMMENT:Preu: 6,50
URL:https://www.mynerva.net/ajalella/document.php?id=16281
END:VEVENT
END:VCALENDAR