BEGIN:VCALENDAR
VERSION:2.0
PRODID:-//Plone.org//NONSGML plone.app.event//EN
X-WR-TIMEZONE:Europe/Madrid
BEGIN:VEVENT
SUMMARY:Cinema. Encanto
DTSTART;TZID=Europe/Madrid;VALUE=DATE-TIME:20211205T170000
DTEND;TZID=Europe/Madrid;VALUE=DATE-TIME:20211205T180000
DTSTAMP;VALUE=DATE-TIME:20260424T144306Z
UID:8a94cfff7b6d67af00dfa7922932748c
CREATED;VALUE=DATE-TIME:20211205T000000Z
CATEGORIES:Cinema,Familiars
LOCATION:Espai d'arts escèniques Casal d'Alella - Carrer de Santa Teresa, 9 08328 Alella
ORGANIZER:Ajuntament d'Alella
COMMENT:Preu: 6,50
URL:https://www.mynerva.net/ajalella/document.php?id=16282
END:VEVENT
END:VCALENDAR