BEGIN:VCALENDAR
VERSION:2.0
PRODID:-//Plone.org//NONSGML plone.app.event//EN
X-WR-TIMEZONE:Europe/Madrid
BEGIN:VEVENT
SUMMARY:Cinema. Encanto
DTSTART;TZID=Europe/Madrid;VALUE=DATE-TIME:20211208T170000
DTEND;TZID=Europe/Madrid;VALUE=DATE-TIME:20211208T180000
DTSTAMP;VALUE=DATE-TIME:20260424T160019Z
UID:c018ec2a13685c9dc1f4df12b5f49da8
CREATED;VALUE=DATE-TIME:20211208T000000Z
CATEGORIES:Cinema,Familiars
LOCATION:Espai d'arts escèniques Casal d'Alella - Carrer de Santa Teresa, 9 08328 Alella
ORGANIZER:Ajuntament d'Alella
COMMENT:Preu: 6,50
URL:https://www.mynerva.net/ajalella/document.php?id=16285
END:VEVENT
END:VCALENDAR