BEGIN:VCALENDAR
VERSION:2.0
PRODID:-//Plone.org//NONSGML plone.app.event//EN
X-WR-TIMEZONE:Europe/Madrid
BEGIN:VEVENT
SUMMARY:La Marató. Taller de maquillatge
DTSTART;TZID=Europe/Madrid;VALUE=DATE-TIME:20211218T170000
DTEND;TZID=Europe/Madrid;VALUE=DATE-TIME:20211218T180000
DTSTAMP;VALUE=DATE-TIME:20260424T011450Z
UID:00784446a2852e0d08db0cd3a73ea97f
CREATED;VALUE=DATE-TIME:20211218T000000Z
CATEGORIES:Festes i fires,Familiars
LOCATION:Plaça de l'Ajuntament - Plaça de l'Ajuntament, s/n. 08328 Alella
ORGANIZER:Ajuntament d'Alella
URL:https://www.mynerva.net/ajalella/document.php?id=16290
END:VEVENT
END:VCALENDAR