BEGIN:VCALENDAR
VERSION:2.0
PRODID:-//Plone.org//NONSGML plone.app.event//EN
X-WR-TIMEZONE:Europe/Madrid
BEGIN:VEVENT
SUMMARY:Fira de Nadal
DTSTART;TZID=Europe/Madrid;VALUE=DATE-TIME:20211218T100000
DTEND;TZID=Europe/Madrid;VALUE=DATE-TIME:20211218T110000
DTSTAMP;VALUE=DATE-TIME:20260419T165133Z
UID:ea07f0fe57d7b612487c3780cb580748
CREATED;VALUE=DATE-TIME:20211218T000000Z
CATEGORIES:Jornades,Festes i fires,Familiars
LOCATION:Rambla Àngel Guimerà i Plaça Germans Lleonart
ORGANIZER:Ajuntament d'Alella
COMMENT:Durada: Dissabte de 10 a 22h i diumenge de 10 a 20h
URL:https://www.mynerva.net/ajalella/document.php?id=16326
END:VEVENT
END:VCALENDAR