BEGIN:VCALENDAR
VERSION:2.0
PRODID:-//Plone.org//NONSGML plone.app.event//EN
X-WR-TIMEZONE:Europe/Madrid
BEGIN:VEVENT
SUMMARY:Dansa familiar. Cometa
DTSTART;TZID=Europe/Madrid;VALUE=DATE-TIME:20220327T180000
DTEND;TZID=Europe/Madrid;VALUE=DATE-TIME:20220327T190000
DTSTAMP;VALUE=DATE-TIME:20260421T224147Z
UID:c9682f3f583e132eba44f2b2278517a5
CREATED;VALUE=DATE-TIME:20220327T000000Z
CATEGORIES:Espectacles,Familiars
LOCATION:Espai d'arts escèniques Casal d'Alella - Carrer de Santa Teresa, 9 08328 Alella
ORGANIZER:Ajuntament d'Alella
COMMENT:Preu: Entre 5 i 6
Durada: 40 min.
DESCRIPTION:Roser López Espinosa
URL:https://www.mynerva.net/ajalella/document.php?id=16490
END:VEVENT
END:VCALENDAR