BEGIN:VCALENDAR
VERSION:2.0
PRODID:-//Plone.org//NONSGML plone.app.event//EN
X-WR-TIMEZONE:Europe/Madrid
BEGIN:VEVENT
SUMMARY:Shirin-yoku. Un bany al bosc. Nivell moderat
DTSTART;TZID=Europe/Madrid;VALUE=DATE-TIME:20220322T093000
DTEND;TZID=Europe/Madrid;VALUE=DATE-TIME:20220322T103000
DTSTAMP;VALUE=DATE-TIME:20260421T144706Z
UID:7c52c1ab33cbfa7ae4b579bf1510ed57
CREATED;VALUE=DATE-TIME:20220322T000000Z
CATEGORIES:Sortides,Cursos
LOCATION:Centre Cultural de Can Lleonart - Plaça dels Germans Lleonart, 1 08328 Alella
ORGANIZER:Ajuntament d'Alella
COMMENT:Preu: 23&euro;
Durada: de 9:30h a 13:30h (4 hores)
URL:https://www.mynerva.net/ajalella/document.php?id=16590
END:VEVENT
END:VCALENDAR