BEGIN:VCALENDAR
VERSION:2.0
PRODID:-//Plone.org//NONSGML plone.app.event//EN
X-WR-TIMEZONE:Europe/Madrid
BEGIN:VEVENT
SUMMARY:Colònies a La Censada
DTSTART;TZID=Europe/Madrid;VALUE=DATE-TIME:20220327T000000
DTEND;TZID=Europe/Madrid;VALUE=DATE-TIME:20220327T010000
DTSTAMP;VALUE=DATE-TIME:20260421T161508Z
UID:8fa8ab04f5c62fff6992aa037a7a7b8b
CREATED;VALUE=DATE-TIME:20220326T000000Z
CATEGORIES:Sortides,Joves
LOCATION:Casa de Colònies "La Censada" (Santa Margarida de Montbui)
ORGANIZER:Ajuntament d'Alella
COMMENT:Preu: 50 euros
Durada: 2 dies
URL:https://www.mynerva.net/ajalella/document.php?id=16647
END:VEVENT
END:VCALENDAR