BEGIN:VCALENDAR
VERSION:2.0
PRODID:-//Plone.org//NONSGML plone.app.event//EN
X-WR-TIMEZONE:Europe/Madrid
BEGIN:VEVENT
SUMMARY:Xerrada: La factura de la llum
DTSTART;TZID=Europe/Madrid;VALUE=DATE-TIME:20220929T110000
DTEND;TZID=Europe/Madrid;VALUE=DATE-TIME:20220929T120000
DTSTAMP;VALUE=DATE-TIME:20260419T163113Z
UID:711e6e850d317d8772bd5eb4f9b0f5e0
CREATED;VALUE=DATE-TIME:20220929T000000Z
CATEGORIES:Tertúlies,Cursos
LOCATION:Sala Carquefou de l'Espai d'Arts Escèniques Casal d'Alella
ORGANIZER:Ajuntament d'Alella
URL:https://www.mynerva.net/ajalella/document.php?id=16732
END:VEVENT
END:VCALENDAR