BEGIN:VCALENDAR
VERSION:2.0
PRODID:-//Plone.org//NONSGML plone.app.event//EN
X-WR-TIMEZONE:Europe/Madrid
BEGIN:VEVENT
SUMMARY:Visita guiada al celler romà de Vallmora + copa de vi DO Alella
DTSTART;TZID=Europe/Madrid;VALUE=DATE-TIME:20220206T110000
DTEND;TZID=Europe/Madrid;VALUE=DATE-TIME:20220206T120000
DTSTAMP;VALUE=DATE-TIME:20260423T215333Z
UID:c3d75c596db46dd5b395cac3c66cccfa
CREATED;VALUE=DATE-TIME:20220205T000000Z
CATEGORIES:
LOCATION:Centre enoturístic i arqueològic de Vallmora (c/ Ernest Lluch, 40 08329 Teià)
ORGANIZER:Centre enoturístic i arqueològic de Vallmora
COMMENT:Preu: 5,5 &euro;
Durada: 1h 30min
URL:https://www.mynerva.net/ajalella/document.php?id=16758
END:VEVENT
END:VCALENDAR