BEGIN:VCALENDAR
VERSION:2.0
PRODID:-//Plone.org//NONSGML plone.app.event//EN
X-WR-TIMEZONE:Europe/Madrid
BEGIN:VEVENT
SUMMARY:Dia Internacional de les Dones. Cicle Cinema Social. Ruta de las Cimarronas
DTSTART;TZID=Europe/Madrid;VALUE=DATE-TIME:20220323T190000
DTEND;TZID=Europe/Madrid;VALUE=DATE-TIME:20220323T200000
DTSTAMP;VALUE=DATE-TIME:20260421T144810Z
UID:5ea62da5224188ad0c72912507a0b398
CREATED;VALUE=DATE-TIME:20220323T000000Z
CATEGORIES:Cinema,Tertúlies,Jornades
LOCATION:Espai d'arts escèniques Casal d'Alella - Carrer de Santa Teresa, 9 08328 Alella
ORGANIZER:Comissió de Cooperació Internacional de l'Ajuntament d'Alella
DESCRIPTION:FORMULARI D'INSCRIPCIONS
URL:https://www.mynerva.net/ajalella/document.php?id=16861
END:VEVENT
END:VCALENDAR