BEGIN:VCALENDAR
VERSION:2.0
PRODID:-//Plone.org//NONSGML plone.app.event//EN
X-WR-TIMEZONE:Europe/Madrid
BEGIN:VEVENT
SUMMARY:Cafè temàtic. Estimulació del llenguatge
DTSTART;TZID=Europe/Madrid;VALUE=DATE-TIME:20220325T140000
DTEND;TZID=Europe/Madrid;VALUE=DATE-TIME:20220325T150000
DTSTAMP;VALUE=DATE-TIME:20260421T144540Z
UID:423eb5d2fd80460a1c86445aea36a16c
CREATED;VALUE=DATE-TIME:20220325T000000Z
CATEGORIES:Jornades,Familiars
ORGANIZER:Ajuntament d'Alella
URL:https://www.mynerva.net/ajalella/document.php?id=16921
END:VEVENT
END:VCALENDAR