BEGIN:VCALENDAR
VERSION:2.0
PRODID:-//Plone.org//NONSGML plone.app.event//EN
X-WR-TIMEZONE:Europe/Madrid
BEGIN:VEVENT
SUMMARY:Reparatruck. Servei mòbil d'autoreparació
DTSTART;TZID=Europe/Madrid;VALUE=DATE-TIME:20220918T100000
DTEND;TZID=Europe/Madrid;VALUE=DATE-TIME:20220918T110000
DTSTAMP;VALUE=DATE-TIME:20260419T190651Z
UID:407a984e2d6fa020638af85af7146a35
CREATED;VALUE=DATE-TIME:20220918T000000Z
CATEGORIES:Jornades
LOCATION:Pati de Can Lleonart - Plaça de l'Ajuntament, s/n. 08328 Alella
ORGANIZER:Ajuntament d'Alella
COMMENT:Preu: Gratuït
Durada: De 10 a 13h
URL:https://www.mynerva.net/ajalella/document.php?id=16930
END:VEVENT
END:VCALENDAR